BEGIN:VCALENDAR
VERSION:2.0
PRODID:Städel Museum
BEGIN:VEVENT
UID:298b4878-929b-44da-b81f-106c56a95ad6
DTSTART:20260426T140000Z
SEQUENCE:0
TRANSP:OPAQUE
DTEND:20260426T150000Z
URL:https://www.staedelmuseum.de/de/programm/online-tour-monets-kueste/2026
 -04-26/16-00
LOCATION:Städel Museum\, Schaumainkai 63\, 60596 Frankfurt am Main
X-APPLE-STRUCTURED-LOCATION;VALUE=URI;X-ADDRESS="Städel Museum, Schaumaink
 ai 63, 60596 Frankfurt am Main";X-APPLE-RADIUS=49;X-TITLE="Städel Museum,
  Schaumainkai 63, 60596 Frankfurt am Main":geo:50.103330,8.673790
GEO:50.103330;8.673790
SUMMARY:Online-Tour – Monets Küste
CLASS:PUBLIC
DESCRIPTION:Die Kunst des Städel Museums erleben – online zu Hause\n\nUR
 L: https://www.staedelmuseum.de/de/programm/online-tour-monets-kueste/2026
 -04-26/16-00
DTSTAMP:20260424T183720Z
END:VEVENT
END:VCALENDAR