BEGIN:VCALENDAR
VERSION:2.0
PRODID:Städel Museum
BEGIN:VEVENT
UID:af8556ee-bbf3-4a34-81ad-a7bebadbfb14
DTSTART:20260425T170000Z
SEQUENCE:0
TRANSP:OPAQUE
DTEND:20260426T000000Z
URL:https://www.staedelmuseum.de/en/programme/nacht-der-museen/2026-04-25/1
 9-00
LOCATION:Städel Museum\, Schaumainkai 63\, 60596 Frankfurt am Main
X-APPLE-STRUCTURED-LOCATION;VALUE=URI;X-ADDRESS="Städel Museum, Schaumaink
 ai 63, 60596 Frankfurt am Main";X-APPLE-RADIUS=49;X-TITLE="Städel Museum,
  Schaumainkai 63, 60596 Frankfurt am Main":geo:50.103330,8.673790
GEO:50.103330;8.673790
SUMMARY:Night of the Museums
CLASS:PUBLIC
DESCRIPTION:Exciting and inspiring art experiences await you during the Nig
 ht of the Museums in the Städel Museum.\n\nURL: https://www.staedelmuseum
 .de/en/programme/nacht-der-museen/2026-04-25/19-00
DTSTAMP:20260425T144857Z
END:VEVENT
END:VCALENDAR